Package: decompTumor2Sig Version: 2.25.1 Command: /home/biocbuild/bbs-3.22-bioc/R/bin/R CMD INSTALL decompTumor2Sig StartedAt: 2025-10-24 16:10:06 -0400 (Fri, 24 Oct 2025) EndedAt: 2025-10-24 16:10:49 -0400 (Fri, 24 Oct 2025) EllapsedTime: 42.6 seconds RetCode: 0 Status: OK