Package: decompTumor2Sig Version: 2.26.0 Command: /Library/Frameworks/R.framework/Resources/bin/R CMD build --keep-empty-dirs --no-resave-data decompTumor2Sig StartedAt: 2025-11-02 16:46:30 -0500 (Sun, 02 Nov 2025) EndedAt: 2025-11-02 16:52:22 -0500 (Sun, 02 Nov 2025) EllapsedTime: 352.1 seconds RetCode: 0 Status: OK PackageFile: decompTumor2Sig_2.26.0.tar.gz PackageFileSize: 2.728 MiB