Package: decompTumor2Sig Version: 2.25.1 Command: /Library/Frameworks/R.framework/Resources/bin/R CMD build --keep-empty-dirs --no-resave-data decompTumor2Sig StartedAt: 2025-10-24 16:10:51 -0400 (Fri, 24 Oct 2025) EndedAt: 2025-10-24 16:50:51 -0400 (Fri, 24 Oct 2025) EllapsedTime: 2400.2 seconds RetCode: None Status: TIMEOUT PackageFile: None PackageFileSize: NA