Package: decompTumor2Sig Version: 2.26.0 Maintainer: Rosario M. Piro MaintainerEmail: rmpiro at gmail.com git_url: https://git.bioconductor.org/packages/decompTumor2Sig git_branch: RELEASE_3_22 git_last_commit: 1228e7c git_last_commit_date: 2025-10-29 10:49:06 -0500 (Wed, 29 Oct 2025)