Package: debrowser Version: 1.37.0 Command: /home/biocbuild/bbs-3.22-bioc/R/bin/R CMD INSTALL debrowser StartedAt: 2025-10-24 15:59:17 -0400 (Fri, 24 Oct 2025) EndedAt: 2025-10-24 16:00:03 -0400 (Fri, 24 Oct 2025) EllapsedTime: 45.9 seconds RetCode: 0 Status: OK