Package: debrowser Version: 1.38.0 Command: /Library/Frameworks/R.framework/Resources/bin/R CMD INSTALL debrowser StartedAt: 2025-11-03 15:47:47 -0500 (Mon, 03 Nov 2025) EndedAt: 2025-11-03 15:48:53 -0500 (Mon, 03 Nov 2025) EllapsedTime: 65.5 seconds RetCode: 0 Status: OK