Package: debrowser Version: 1.37.0 Command: /Library/Frameworks/R.framework/Resources/bin/R CMD INSTALL debrowser StartedAt: 2025-10-26 15:26:21 -0400 (Sun, 26 Oct 2025) EndedAt: 2025-10-26 15:26:40 -0400 (Sun, 26 Oct 2025) EllapsedTime: 18.5 seconds RetCode: 0 Status: OK