Package: debrowser Version: 1.37.0 Command: rm -rf debrowser.buildbin-libdir && mkdir debrowser.buildbin-libdir && /Users/biocbuild/BBS/utils/build-universal.sh debrowser_1.37.0.tar.gz /Library/Frameworks/R.framework/Resources/bin/R debrowser.buildbin-libdir StartedAt: 2025-10-26 22:33:47 -0400 (Sun, 26 Oct 2025) EndedAt: 2025-10-26 22:34:07 -0400 (Sun, 26 Oct 2025) EllapsedTime: 19.4 seconds RetCode: 0 Status: OK PackageFile: debrowser_1.37.0.tgz PackageFileSize: 3.058 MiB