Package: dearseq Version: 1.22.0 Command: /home/biocbuild/bbs-3.22-bioc/R/bin/R CMD INSTALL dearseq StartedAt: 2025-11-02 15:16:31 -0500 (Sun, 02 Nov 2025) EndedAt: 2025-11-02 15:16:49 -0500 (Sun, 02 Nov 2025) EllapsedTime: 18.1 seconds RetCode: 0 Status: OK