Package: dearseq Version: 1.22.0 Command: /home/biocbuild/bbs-3.22-bioc/R/bin/R CMD build --keep-empty-dirs --no-resave-data --md5 dearseq StartedAt: 2025-11-03 17:13:37 -0500 (Mon, 03 Nov 2025) EndedAt: 2025-11-03 17:18:41 -0500 (Mon, 03 Nov 2025) EllapsedTime: 304.3 seconds RetCode: 0 Status: OK PackageFile: dearseq_1.22.0.tar.gz PackageFileSize: 742.1 KiB