Package: ddPCRclust Version: 1.29.0 Command: /home/biocbuild/R/R/bin/R CMD INSTALL ddPCRclust StartedAt: 2025-10-23 20:33:18 -0000 (Thu, 23 Oct 2025) EndedAt: 2025-10-23 20:33:34 -0000 (Thu, 23 Oct 2025) EllapsedTime: 16.6 seconds RetCode: 0 Status: OK