Package: ddPCRclust Version: 1.29.0 Command: /home/biocbuild/bbs-3.22-bioc/R/bin/R CMD INSTALL ddPCRclust StartedAt: 2025-10-24 15:24:46 -0400 (Fri, 24 Oct 2025) EndedAt: 2025-10-24 15:24:59 -0400 (Fri, 24 Oct 2025) EllapsedTime: 12.4 seconds RetCode: 0 Status: OK