Package: ddPCRclust Version: 1.29.0 Command: /home/biocbuild/bbs-3.22-bioc/R/bin/R CMD build --keep-empty-dirs --no-resave-data --md5 ddPCRclust StartedAt: 2025-10-24 17:20:49 -0400 (Fri, 24 Oct 2025) EndedAt: 2025-10-24 17:21:20 -0400 (Fri, 24 Oct 2025) EllapsedTime: 30.0 seconds RetCode: 0 Status: OK PackageFile: ddPCRclust_1.29.0.tar.gz PackageFileSize: 1.193 MiB