Package: ddPCRclust Version: 1.29.0 Command: /Library/Frameworks/R.framework/Resources/bin/R CMD build --keep-empty-dirs --no-resave-data ddPCRclust StartedAt: 2025-10-24 16:46:24 -0400 (Fri, 24 Oct 2025) EndedAt: 2025-10-24 16:47:07 -0400 (Fri, 24 Oct 2025) EllapsedTime: 43.4 seconds RetCode: 0 Status: OK PackageFile: ddPCRclust_1.29.0.tar.gz PackageFileSize: 1.192 MiB