Package: ddPCRclust Version: 1.29.0 Command: rm -rf ddPCRclust.buildbin-libdir && mkdir ddPCRclust.buildbin-libdir && /Users/biocbuild/BBS/utils/build-universal.sh ddPCRclust_1.29.0.tar.gz /Library/Frameworks/R.framework/Resources/bin/R ddPCRclust.buildbin-libdir StartedAt: 2025-10-25 01:36:13 -0400 (Sat, 25 Oct 2025) EndedAt: 2025-10-25 01:36:34 -0400 (Sat, 25 Oct 2025) EllapsedTime: 21.0 seconds RetCode: 0 Status: OK PackageFile: ddPCRclust_1.29.0.tgz PackageFileSize: 1.343 MiB