Package: ddPCRclust Version: 1.29.0 Command: /Library/Frameworks/R.framework/Resources/bin/R CMD INSTALL ddPCRclust StartedAt: 2025-10-24 15:12:48 -0400 (Fri, 24 Oct 2025) EndedAt: 2025-10-24 15:12:54 -0400 (Fri, 24 Oct 2025) EllapsedTime: 6.4 seconds RetCode: 0 Status: OK