Package: dcanr Version: 1.25.0 Command: /home/biocbuild/bbs-3.22-bioc/R/bin/R CMD INSTALL dcanr StartedAt: 2025-10-24 15:17:21 -0400 (Fri, 24 Oct 2025) EndedAt: 2025-10-24 15:17:56 -0400 (Fri, 24 Oct 2025) EllapsedTime: 35.7 seconds RetCode: 0 Status: OK