Package: dcanr Version: 1.26.0 Command: /Library/Frameworks/R.framework/Resources/bin/R CMD build --keep-empty-dirs --no-resave-data dcanr StartedAt: 2025-11-10 16:07:47 -0500 (Mon, 10 Nov 2025) EndedAt: 2025-11-10 16:08:03 -0500 (Mon, 10 Nov 2025) EllapsedTime: 16.2 seconds RetCode: 0 Status: OK PackageFile: dcanr_1.26.0.tar.gz PackageFileSize: 1.751 MiB