Package: dcanr Version: 1.26.0 Command: rm -rf dcanr.buildbin-libdir && mkdir dcanr.buildbin-libdir && /Users/biocbuild/BBS/utils/build-universal.sh dcanr_1.26.0.tar.gz /Library/Frameworks/R.framework/Resources/bin/R dcanr.buildbin-libdir StartedAt: 2025-11-10 23:17:07 -0500 (Mon, 10 Nov 2025) EndedAt: 2025-11-10 23:17:10 -0500 (Mon, 10 Nov 2025) EllapsedTime: 3.1 seconds RetCode: 0 Status: OK PackageFile: dcanr_1.26.0.tgz PackageFileSize: 1.838 MiB