Package: dcGSA Version: 1.37.0 Command: /home/biocbuild/bbs-3.22-bioc/R/bin/R CMD INSTALL dcGSA StartedAt: 2025-10-24 15:15:37 -0400 (Fri, 24 Oct 2025) EndedAt: 2025-10-24 15:15:42 -0400 (Fri, 24 Oct 2025) EllapsedTime: 5.6 seconds RetCode: 0 Status: OK