Package: dcGSA Version: 1.38.0 Command: /Library/Frameworks/R.framework/Resources/bin/R CMD INSTALL dcGSA StartedAt: 2025-11-10 15:02:58 -0500 (Mon, 10 Nov 2025) EndedAt: 2025-11-10 15:03:00 -0500 (Mon, 10 Nov 2025) EllapsedTime: 2.3 seconds RetCode: 0 Status: OK