Package: dar Version: 1.5.2 Command: /home/biocbuild/bbs-3.22-bioc/R/bin/R CMD INSTALL dar StartedAt: 2025-10-24 16:07:14 -0400 (Fri, 24 Oct 2025) EndedAt: 2025-10-24 16:07:38 -0400 (Fri, 24 Oct 2025) EllapsedTime: 24.7 seconds RetCode: 0 Status: OK