Package: dandelionR Version: 1.1.5 Command: /home/biocbuild/bbs-3.22-bioc/R/bin/R CMD INSTALL dandelionR StartedAt: 2025-10-24 16:06:13 -0400 (Fri, 24 Oct 2025) EndedAt: 2025-10-24 16:06:52 -0400 (Fri, 24 Oct 2025) EllapsedTime: 39.2 seconds RetCode: 0 Status: OK