Package: dandelionR Version: 1.1.5 Command: /home/biocbuild/bbs-3.22-bioc/R/bin/R CMD build --keep-empty-dirs --no-resave-data --md5 dandelionR StartedAt: 2025-10-24 17:19:50 -0400 (Fri, 24 Oct 2025) EndedAt: 2025-10-24 17:22:27 -0400 (Fri, 24 Oct 2025) EllapsedTime: 156.2 seconds RetCode: 0 Status: OK PackageFile: dandelionR_1.1.5.tar.gz PackageFileSize: 11.44 MiB