Package: dandelionR Version: 1.1.5 Command: /Library/Frameworks/R.framework/Resources/bin/R CMD INSTALL dandelionR StartedAt: 2025-10-24 15:32:26 -0400 (Fri, 24 Oct 2025) EndedAt: 2025-10-24 15:32:45 -0400 (Fri, 24 Oct 2025) EllapsedTime: 18.6 seconds RetCode: 0 Status: OK