Package: dagLogo Version: 1.47.0 Command: /home/biocbuild/bbs-3.22-bioc/R/bin/R CMD build --keep-empty-dirs --no-resave-data --md5 dagLogo StartedAt: 2025-10-24 17:19:09 -0400 (Fri, 24 Oct 2025) EndedAt: 2025-10-24 17:20:50 -0400 (Fri, 24 Oct 2025) EllapsedTime: 101.1 seconds RetCode: 0 Status: OK PackageFile: dagLogo_1.47.0.tar.gz PackageFileSize: 2.659 MiB