Package: dada2 Version: 1.37.0 Command: /home/biocbuild/bbs-3.22-bioc/R/bin/R CMD INSTALL dada2 StartedAt: 2025-10-24 16:02:42 -0400 (Fri, 24 Oct 2025) EndedAt: 2025-10-24 16:04:04 -0400 (Fri, 24 Oct 2025) EllapsedTime: 82.2 seconds RetCode: 0 Status: OK