Package: dada2 Version: 1.38.0 Command: rm -rf dada2.buildbin-libdir && mkdir dada2.buildbin-libdir && /Users/biocbuild/BBS/utils/build-universal.sh dada2_1.38.0.tar.gz /Library/Frameworks/R.framework/Resources/bin/R dada2.buildbin-libdir StartedAt: 2025-10-31 23:03:56 -0400 (Fri, 31 Oct 2025) EndedAt: 2025-10-31 23:04:25 -0400 (Fri, 31 Oct 2025) EllapsedTime: 29.6 seconds RetCode: 0 Status: OK PackageFile: dada2_1.38.0.tgz PackageFileSize: 3.373 MiB