Package: daMA Version: 1.82.0 Command: /home/biocbuild/bbs-3.22-bioc/R/bin/R CMD INSTALL daMA StartedAt: 2025-11-06 15:02:57 -0500 (Thu, 06 Nov 2025) EndedAt: 2025-11-06 15:03:16 -0500 (Thu, 06 Nov 2025) EllapsedTime: 19.2 seconds RetCode: 0 Status: OK