Package: dStruct Version: 1.15.0 Command: /home/biocbuild/bbs-3.22-bioc/R/bin/R CMD check --install=check:dStruct.install-out.txt --library=/home/biocbuild/bbs-3.22-bioc/R/site-library --timings dStruct_1.15.0.tar.gz StartedAt: 2025-10-27 23:15:31 -0400 (Mon, 27 Oct 2025) EndedAt: 2025-10-27 23:17:05 -0400 (Mon, 27 Oct 2025) EllapsedTime: 94.1 seconds RetCode: 0 Status: OK CheckDir: dStruct.Rcheck Warnings: 0