Package: dStruct Version: 1.15.0 Command: /Library/Frameworks/R.framework/Resources/bin/R CMD INSTALL dStruct StartedAt: 2025-10-24 15:24:11 -0400 (Fri, 24 Oct 2025) EndedAt: 2025-10-24 15:24:24 -0400 (Fri, 24 Oct 2025) EllapsedTime: 12.7 seconds RetCode: 0 Status: OK