Package: dStruct Version: 1.15.0 Command: /Library/Frameworks/R.framework/Resources/bin/R CMD INSTALL dStruct StartedAt: 2025-10-27 15:07:26 -0400 (Mon, 27 Oct 2025) EndedAt: 2025-10-27 15:07:28 -0400 (Mon, 27 Oct 2025) EllapsedTime: 1.5 seconds RetCode: 0 Status: OK