Package: dStruct Version: 1.15.0 Command: /Library/Frameworks/R.framework/Resources/bin/R CMD build --keep-empty-dirs --no-resave-data dStruct StartedAt: 2025-10-26 16:19:45 -0400 (Sun, 26 Oct 2025) EndedAt: 2025-10-26 16:19:51 -0400 (Sun, 26 Oct 2025) EllapsedTime: 6.1 seconds RetCode: 0 Status: OK PackageFile: dStruct_1.15.0.tar.gz PackageFileSize: 557.4 KiB