Package: dStruct Version: 1.15.0 Command: rm -rf dStruct.buildbin-libdir && mkdir dStruct.buildbin-libdir && /Users/biocbuild/BBS/utils/build-universal.sh dStruct_1.15.0.tar.gz /Library/Frameworks/R.framework/Resources/bin/R dStruct.buildbin-libdir StartedAt: 2025-10-26 22:34:53 -0400 (Sun, 26 Oct 2025) EndedAt: 2025-10-26 22:34:55 -0400 (Sun, 26 Oct 2025) EllapsedTime: 2.1 seconds RetCode: 0 Status: OK PackageFile: dStruct_1.15.0.tgz PackageFileSize: 597.3 KiB