Package: cytomapper Version: 1.21.1 Command: /home/biocbuild/bbs-3.22-bioc/R/bin/R CMD build --keep-empty-dirs --no-resave-data --md5 cytomapper StartedAt: 2025-10-24 17:18:04 -0400 (Fri, 24 Oct 2025) EndedAt: 2025-10-24 17:19:43 -0400 (Fri, 24 Oct 2025) EllapsedTime: 99.1 seconds RetCode: 0 Status: OK PackageFile: cytomapper_1.21.1.tar.gz PackageFileSize: 20.98 MiB