Package: cytomapper Version: 1.22.0 Command: /Library/Frameworks/R.framework/Resources/bin/R CMD INSTALL cytomapper StartedAt: 2025-10-31 15:41:18 -0400 (Fri, 31 Oct 2025) EndedAt: 2025-10-31 15:42:35 -0400 (Fri, 31 Oct 2025) EllapsedTime: 76.5 seconds RetCode: 0 Status: OK