Package: cytomapper Version: 1.22.0 Command: rm -rf cytomapper.buildbin-libdir && mkdir cytomapper.buildbin-libdir && /Users/biocbuild/BBS/utils/build-universal.sh cytomapper_1.22.0.tar.gz /Library/Frameworks/R.framework/Resources/bin/R cytomapper.buildbin-libdir StartedAt: 2025-11-01 01:29:52 -0400 (Sat, 01 Nov 2025) EndedAt: 2025-11-01 01:31:14 -0400 (Sat, 01 Nov 2025) EllapsedTime: 81.9 seconds RetCode: 0 Status: OK PackageFile: cytomapper_1.22.0.tgz PackageFileSize: 5.46 MiB