Package: cytomapper Version: 1.21.1 Command: /Library/Frameworks/R.framework/Resources/bin/R CMD INSTALL cytomapper StartedAt: 2025-10-24 15:16:37 -0400 (Fri, 24 Oct 2025) EndedAt: 2025-10-24 15:17:00 -0400 (Fri, 24 Oct 2025) EllapsedTime: 22.1 seconds RetCode: 0 Status: OK