Package: cytomapper Version: 1.21.1 Command: /Library/Frameworks/R.framework/Resources/bin/R CMD build --keep-empty-dirs --no-resave-data cytomapper StartedAt: 2025-10-24 16:09:10 -0400 (Fri, 24 Oct 2025) EndedAt: 2025-10-24 16:09:51 -0400 (Fri, 24 Oct 2025) EllapsedTime: 41.4 seconds RetCode: 0 Status: OK PackageFile: cytomapper_1.21.1.tar.gz PackageFileSize: 21.49 MiB