Package: cytomapper Version: 1.21.1 Command: rm -rf cytomapper.buildbin-libdir && mkdir cytomapper.buildbin-libdir && /Users/biocbuild/BBS/utils/build-universal.sh cytomapper_1.21.1.tar.gz /Library/Frameworks/R.framework/Resources/bin/R cytomapper.buildbin-libdir StartedAt: 2025-10-24 22:59:46 -0400 (Fri, 24 Oct 2025) EndedAt: 2025-10-24 23:00:11 -0400 (Fri, 24 Oct 2025) EllapsedTime: 24.6 seconds RetCode: 0 Status: OK PackageFile: cytomapper_1.21.1.tgz PackageFileSize: 5.46 MiB