Package: cytomapper Version: 1.22.0 Maintainer: Lasse Meyer MaintainerEmail: lasse.meyer at dqbm.uzh.ch git_url: https://git.bioconductor.org/packages/cytomapper git_branch: RELEASE_3_22 git_last_commit: 0d3160a git_last_commit_date: 2025-10-29 10:57:59 -0400 (Wed, 29 Oct 2025)