Package: cytolib Version: 2.21.0 Command: /Library/Frameworks/R.framework/Resources/bin/R CMD build --keep-empty-dirs --no-resave-data cytolib StartedAt: 2025-10-24 16:44:21 -0400 (Fri, 24 Oct 2025) EndedAt: 2025-10-24 16:46:55 -0400 (Fri, 24 Oct 2025) EllapsedTime: 154.1 seconds RetCode: 0 Status: OK PackageFile: cytolib_2.21.0.tar.gz PackageFileSize: 5.786 MiB