Package: cytolib Version: 2.21.0 Command: /Library/Frameworks/R.framework/Resources/bin/R CMD INSTALL cytolib StartedAt: 2025-10-27 15:02:52 -0400 (Mon, 27 Oct 2025) EndedAt: 2025-10-27 15:03:40 -0400 (Mon, 27 Oct 2025) EllapsedTime: 48.2 seconds RetCode: 0 Status: OK