Package: cytolib Version: 2.21.0 Command: /Library/Frameworks/R.framework/Resources/bin/R CMD build --keep-empty-dirs --no-resave-data cytolib StartedAt: 2025-10-26 16:07:35 -0400 (Sun, 26 Oct 2025) EndedAt: 2025-10-26 16:08:15 -0400 (Sun, 26 Oct 2025) EllapsedTime: 39.4 seconds RetCode: 0 Status: OK PackageFile: cytolib_2.21.0.tar.gz PackageFileSize: 5.786 MiB