Package: cytoKernel Version: 1.15.0 Command: /home/biocbuild/bbs-3.22-bioc/R/bin/R CMD INSTALL cytoKernel StartedAt: 2025-10-24 15:27:58 -0400 (Fri, 24 Oct 2025) EndedAt: 2025-10-24 15:28:28 -0400 (Fri, 24 Oct 2025) EllapsedTime: 30.1 seconds RetCode: 0 Status: OK