Package: cytoKernel Version: 1.15.0 Command: /home/biocbuild/bbs-3.22-bioc/R/bin/R CMD check --install=check:cytoKernel.install-out.txt --library=/home/biocbuild/bbs-3.22-bioc/R/site-library --timings cytoKernel_1.15.0.tar.gz StartedAt: 2025-10-24 22:45:13 -0400 (Fri, 24 Oct 2025) EndedAt: 2025-10-24 22:49:06 -0400 (Fri, 24 Oct 2025) EllapsedTime: 233.3 seconds RetCode: 0 Status: OK CheckDir: cytoKernel.Rcheck Warnings: 0