Package: cytoKernel Version: 1.15.0 Command: /Library/Frameworks/R.framework/Resources/bin/R CMD INSTALL cytoKernel StartedAt: 2025-10-24 15:26:52 -0400 (Fri, 24 Oct 2025) EndedAt: 2025-10-24 15:27:33 -0400 (Fri, 24 Oct 2025) EllapsedTime: 40.7 seconds RetCode: 0 Status: OK