Package: cytoKernel Version: 1.15.0 Command: rm -rf cytoKernel.buildbin-libdir && mkdir cytoKernel.buildbin-libdir && /Users/biocbuild/BBS/utils/build-universal.sh cytoKernel_1.15.0.tar.gz /Library/Frameworks/R.framework/Resources/bin/R cytoKernel.buildbin-libdir StartedAt: 2025-10-25 01:35:46 -0400 (Sat, 25 Oct 2025) EndedAt: 2025-10-25 01:36:30 -0400 (Sat, 25 Oct 2025) EllapsedTime: 44.0 seconds RetCode: 0 Status: OK PackageFile: cytoKernel_1.15.0.tgz PackageFileSize: 844.8 KiB