Package: cytoKernel Version: 1.15.0 Command: /Library/Frameworks/R.framework/Resources/bin/R CMD build --keep-empty-dirs --no-resave-data cytoKernel StartedAt: 2025-10-24 16:08:57 -0400 (Fri, 24 Oct 2025) EndedAt: 2025-10-24 16:09:16 -0400 (Fri, 24 Oct 2025) EllapsedTime: 18.2 seconds RetCode: 0 Status: OK PackageFile: cytoKernel_1.15.0.tar.gz PackageFileSize: 705.7 KiB