Package: cytoKernel Version: 1.15.0 Command: rm -rf cytoKernel.buildbin-libdir && mkdir cytoKernel.buildbin-libdir && /Users/biocbuild/BBS/utils/build-universal.sh cytoKernel_1.15.0.tar.gz /Library/Frameworks/R.framework/Resources/bin/R cytoKernel.buildbin-libdir StartedAt: 2025-10-24 22:59:44 -0400 (Fri, 24 Oct 2025) EndedAt: 2025-10-24 22:59:58 -0400 (Fri, 24 Oct 2025) EllapsedTime: 13.3 seconds RetCode: 0 Status: OK PackageFile: cytoKernel_1.15.0.tgz PackageFileSize: 843.7 KiB